BEGIN:VCALENDAR
VERSION:2.0
PRODID:-//wp-events-plugin.com//7.2.3.1//EN
BEGIN:VEVENT
UID:1808@murraystreetlive.ca
DTSTART:20260426T103000Z
DTEND:20260426T113000Z
DTSTAMP:20260423T183626Z
URL:https://murraystreetlive.ca/events/this-sunday-worship-37/
SUMMARY:This Sunday Worship
DESCRIPTION:Come as you are to our in-person worship. Everyone is welcome.\
 n\nCheck out this Sunday’s bulletin.\n\nJoin us afterwards for a time of
  refreshment and fellowship. We look forward to seeing you!\n\nPastor Lisa
  Brewitt's  Message: Living into God’s Big Beautiful Plan in Christ: T
 he Walls Come A Tumblin’ Down   \n\nScripture Reading: Ephesians 3:1-1
 3
END:VEVENT
END:VCALENDAR