BEGIN:VCALENDAR
VERSION:2.0
PRODID:-//wp-events-plugin.com//7.2.3.1//EN
BEGIN:VEVENT
UID:1809@murraystreetlive.ca
DTSTART:20260427T163000Z
DTEND:20260427T173000Z
DTSTAMP:20260423T183957Z
URL:https://murraystreetlive.ca/events/fresh-beginnings-22/
SUMMARY:Fresh Beginnings
DESCRIPTION:\nMurray Street offers fresh vegetables\, fruits and eggs for t
 hose wishing to add just a little more to their diets. Doors open around 3
 :30 p.m. to 4:00 p.m. Distribution of food begins at 4:30 p.m. and remains
  open until food is gone or until 5:30 p.m. Donations of fresh fruits and 
 vegetables are always welcome. Please contact the Church Office for more i
 nformation.\n\nPhone: 705 745-4376
END:VEVENT
END:VCALENDAR